BEGIN:VCALENDAR
VERSION:2.0
PRODID:-//Altona Sports Centre - ECPv6.1.4//NONSGML v1.0//EN
CALSCALE:GREGORIAN
METHOD:PUBLISH
X-ORIGINAL-URL:https://altonasportscentre.com.au
X-WR-CALDESC:Events for Altona Sports Centre
REFRESH-INTERVAL;VALUE=DURATION:PT1H
X-Robots-Tag:noindex
X-PUBLISHED-TTL:PT1H
BEGIN:VTIMEZONE
TZID:Australia/Melbourne
BEGIN:STANDARD
TZOFFSETFROM:+1100
TZOFFSETTO:+1000
TZNAME:AEST
DTSTART:20230401T160000
END:STANDARD
BEGIN:DAYLIGHT
TZOFFSETFROM:+1000
TZOFFSETTO:+1100
TZNAME:AEDT
DTSTART:20230930T160000
END:DAYLIGHT
END:VTIMEZONE
BEGIN:VEVENT
DTSTART;TZID=Australia/Melbourne:20230207T091500
DTEND;TZID=Australia/Melbourne:20230207T111500
DTSTAMP:20260420T152618
CREATED:20230206T212947Z
LAST-MODIFIED:20230206T220258Z
UID:11143-1675761300-1675768500@altonasportscentre.com.au
SUMMARY:Ready Steady Go Kids - Tuesday
DESCRIPTION:Australia’s largest multi-sport program for 1.5-6 year olds! \nReady Steady Go Kids is designed to introduce children to the fundamentals of 10 different sports including soccer\, tennis\, basketball\, hockey\, golf\, AFL\, rugby\, athletics\, cricket and T-Ball. \nClasses are structured into different age groups so your child receives the best outcome for their developmental needs. \nTuesday – Starting 31st January to 4th April: \n\n\n\n9:15am – 1.5-2.5 year olds\n9:45am – 3-4 year olds\n10:30am – 4-6 year olds\n\n\n\nClasses contain no more than 14 children and have a 1:7 instructor to student ratio. \nClasses for 1.5-2.5 year old children have no more than 10 participants and 2 instructors. \nRegister via this link: \nThe times of available classes (readysteadygokids.com.au)
URL:https://altonasportscentre.com.au/event/ready-steady-go-kids-tuesday-12/2023-02-07/
LOCATION:Altona Sports Centre\, 1 Andrew Park Drive\, Altona Meadows\, Victoria\, 3028\, Australia
CATEGORIES:Ready Steady Go Kids
ATTACH;FMTTYPE=image/png:https://altonasportscentre.com.au/wp-content/uploads/2023/02/RSGK-Term-1-2023-Website-1.png
ORGANIZER;CN="Altona%20Sports%20Centre":MAILTO:bookings@altonasportscentre.com.au
END:VEVENT
BEGIN:VEVENT
DTSTART;TZID=Australia/Melbourne:20230210T091500
DTEND;TZID=Australia/Melbourne:20230210T111500
DTSTAMP:20260420T152618
CREATED:20230206T213500Z
LAST-MODIFIED:20230206T220344Z
UID:11163-1676020500-1676027700@altonasportscentre.com.au
SUMMARY:Ready Steady Go Kids - Friday
DESCRIPTION:Australia’s largest multi-sport program for 1.5-6 year olds! \nReady Steady Go Kids is designed to introduce children to the fundamentals of 10 different sports including soccer\, tennis\, basketball\, hockey\, golf\, AFL\, rugby\, athletics\, cricket and T-Ball. \nClasses are structured into different age groups so your child receives the best outcome for their developmental needs. \nFriday – Starting 3rd February to 31st March: \n\n\n\n9:15am – 1.5-2.5 year olds\n9:45am – 3-4 year olds\n10:30am – 4-6 year olds\n\n\n\nClasses contain no more than 14 children and have a 1:7 instructor to student ratio. \nClasses for 1.5-2.5 year old children have no more than 10 participants and 2 instructors. \nRegister via this link: \nThe times of available classes (readysteadygokids.com.au)
URL:https://altonasportscentre.com.au/event/ready-steady-go-kids-friday-12/2023-02-10/
LOCATION:Altona Sports Centre\, 1 Andrew Park Drive\, Altona Meadows\, Victoria\, 3028\, Australia
CATEGORIES:Ready Steady Go Kids
ATTACH;FMTTYPE=image/png:https://altonasportscentre.com.au/wp-content/uploads/2023/02/RSGK-Term-1-2023-Website-1.png
ORGANIZER;CN="Altona%20Sports%20Centre":MAILTO:bookings@altonasportscentre.com.au
END:VEVENT
BEGIN:VEVENT
DTSTART;TZID=Australia/Melbourne:20230212T084500
DTEND;TZID=Australia/Melbourne:20230212T110000
DTSTAMP:20260420T152618
CREATED:20230206T220134Z
LAST-MODIFIED:20230206T220134Z
UID:11181-1676191500-1676199600@altonasportscentre.com.au
SUMMARY:Ready Steady Go Kids - Sunday
DESCRIPTION:Australia’s largest multi-sport program for 1.5-6 year olds! \nReady Steady Go Kids is designed to introduce children to the fundamentals of 10 different sports including soccer\, tennis\, basketball\, hockey\, golf\, AFL\, rugby\, athletics\, cricket and T-Ball. \nClasses are structured into different age groups so your child receives the best outcome for their developmental needs. \nSunday – Starting 5th February to 2nd April: \n\n\n\n8:45am – 2.5-3 year olds\n9:30am – 3-4 year olds\n10:15am – 4-6 year olds\n\n\n\nClasses contain no more than 14 children and have a 1:7 instructor to student ratio. \nRegister via this link: \nThe times of available classes (readysteadygokids.com.au)
URL:https://altonasportscentre.com.au/event/ready-steady-go-kids-sunday-12/2023-02-12/
LOCATION:Altona Sports Centre\, 1 Andrew Park Drive\, Altona Meadows\, Victoria\, 3028\, Australia
CATEGORIES:Ready Steady Go Kids
ATTACH;FMTTYPE=image/png:https://altonasportscentre.com.au/wp-content/uploads/2023/02/RSGK-Term-1-2023-Website-1.png
ORGANIZER;CN="Altona%20Sports%20Centre":MAILTO:bookings@altonasportscentre.com.au
END:VEVENT
BEGIN:VEVENT
DTSTART;TZID=Australia/Melbourne:20230213T091500
DTEND;TZID=Australia/Melbourne:20230213T104500
DTSTAMP:20260420T152618
CREATED:20230206T211817Z
LAST-MODIFIED:20230206T220218Z
UID:11124-1676279700-1676285100@altonasportscentre.com.au
SUMMARY:Ready Steady Go Kids - Monday
DESCRIPTION:Australia’s largest multi-sport program for 1.5-6 year olds! \nReady Steady Go Kids is designed to introduce children to the fundamentals of 10 different sports including soccer\, tennis\, basketball\, hockey\, golf\, AFL\, rugby\, athletics\, cricket and T-Ball. \nClasses are structured into different age groups so your child receives the best outcome for their developmental needs. \nMonday – Starting 30th January to 3rd April: \n\n\n\n9:15am – 3-4 year olds\n10:00am – 4-6 year olds\n\n\n\nClasses contain no more than 14 children and have a 1:7 instructor to student ratio. \nRegister via this link: \nThe times of available classes (readysteadygokids.com.au)
URL:https://altonasportscentre.com.au/event/ready-steady-go-kids-monday-2/2023-02-13/
LOCATION:Altona Sports Centre\, 1 Andrew Park Drive\, Altona Meadows\, Victoria\, 3028\, Australia
CATEGORIES:Ready Steady Go Kids
ATTACH;FMTTYPE=image/png:https://altonasportscentre.com.au/wp-content/uploads/2023/02/RSGK-Term-1-2023-Website-1.png
ORGANIZER;CN="Altona%20Sports%20Centre":MAILTO:bookings@altonasportscentre.com.au
END:VEVENT
BEGIN:VEVENT
DTSTART;TZID=Australia/Melbourne:20230424T091500
DTEND;TZID=Australia/Melbourne:20230424T111500
DTSTAMP:20260420T152618
CREATED:20230417T004237Z
LAST-MODIFIED:20230419T000104Z
UID:11765-1682327700-1682334900@altonasportscentre.com.au
SUMMARY:Ready Steady Go Kids - Monday Sessions
DESCRIPTION:  \nAustralia’s largest multi-sport program for 1.5-6 year olds! \nReady Steady Go Kids is designed to introduce children to the fundamentals of 10 different sports including soccer\, tennis\, basketball\, hockey\, golf\, AFL\, rugby\, athletics\, cricket and T-Ball. \nClasses are structured into different age groups so your child receives the best outcome for their developmental needs. \n  \nMonday sessions – starting 24th April to 19th June: \n09:15am – 09:45am  |  1.5 – 2.5 year olds \n09:45am – 10:30am  |  3 – 4 year olds \n10:30am – 11:15am  |  4 – 6 year olds \nClasses contain no more than 14 children and have a 1:7 instructor to student ratio. \nClasses for 1.5-2.5 year old children have no more than 10 participants and 2 instructors. \n  \nPlease enrol via this link: \nThe times of available classes (readysteadygokids.com.au) \n  \nPlease note sessions will not run on public holidays.
URL:https://altonasportscentre.com.au/event/ready-steady-go-kids-monday-sessions/2023-04-24/
LOCATION:Altona Sports Centre\, 1 Andrew Park Drive\, Altona Meadows\, Victoria\, 3028\, Australia
CATEGORIES:Ready Steady Go Kids
ATTACH;FMTTYPE=image/png:https://altonasportscentre.com.au/wp-content/uploads/2023/04/RSGK-Term-2-2023-Monday-Website.png
END:VEVENT
BEGIN:VEVENT
DTSTART;TZID=Australia/Melbourne:20230428T091500
DTEND;TZID=Australia/Melbourne:20230428T111500
DTSTAMP:20260420T152618
CREATED:20230418T014641Z
LAST-MODIFIED:20230419T023554Z
UID:11885-1682673300-1682680500@altonasportscentre.com.au
SUMMARY:Ready Steady Go Kids - Friday Sessions
DESCRIPTION:  \nAustralia’s largest multi-sport program for 1.5-6 year olds! \nReady Steady Go Kids is designed to introduce children to the fundamentals of 10 different sports including soccer\, tennis\, basketball\, hockey\, golf\, AFL\, rugby\, athletics\, cricket and T-Ball. \nClasses are structured into different age groups so your child receives the best outcome for their developmental needs. \n  \nFriday sessions – starting 28th April to 23rd June: \n09:15am – 09:45am  |  1.5 – 2.5 year olds \n09:45am – 10:30am  |  3 – 4 year olds \n10:30am – 11:15am  |  4 – 6 year olds \nClasses contain no more than 14 children and have a 1:7 instructor to student ratio. \nClasses for 1.5-2.5 year old children have no more than 10 participants and 2 instructors. \n  \nPlease enrol via this link: \nThe times of available classes (readysteadygokids.com.au) \n  \nPlease note sessions will not run on public holidays and tournament days.
URL:https://altonasportscentre.com.au/event/ready-steady-go-kids-friday-sessions/2023-04-28/
LOCATION:Altona Sports Centre\, 1 Andrew Park Drive\, Altona Meadows\, Victoria\, 3028\, Australia
CATEGORIES:Ready Steady Go Kids
ATTACH;FMTTYPE=image/png:https://altonasportscentre.com.au/wp-content/uploads/2023/04/RSGK-Term-2-2023-Friday-Website.png
END:VEVENT
BEGIN:VEVENT
DTSTART;TZID=Australia/Melbourne:20230430T084500
DTEND;TZID=Australia/Melbourne:20230430T110000
DTSTAMP:20260420T152618
CREATED:20230418T235251Z
LAST-MODIFIED:20230419T023657Z
UID:11979-1682844300-1682852400@altonasportscentre.com.au
SUMMARY:Ready Steady Go Kids - Sunday Sessions
DESCRIPTION:  \nAustralia’s largest multi-sport program for 1.5-6 year olds! \nReady Steady Go Kids is designed to introduce children to the fundamentals of 10 different sports including soccer\, tennis\, basketball\, hockey\, golf\, AFL\, rugby\, athletics\, cricket and T-Ball. \nClasses are structured into different age groups so your child receives the best outcome for their developmental needs. \n  \nSunday sessions – starting 30th April to 18th June: \n08:45am – 09:30am  |  2.5 – 3 year olds \n09:30am – 10:15am  |  3 – 4 year olds \n10:15am – 11:00am  |  4 – 6 year olds \nClasses contain no more than 14 children and have a 1:7 instructor to student ratio. \n  \nPlease enrol via this link: \nThe times of available classes (readysteadygokids.com.au) \n  \nPlease note sessions will not run on public holidays and tournament days.
URL:https://altonasportscentre.com.au/event/ready-steady-go-kids-sunday-sessions/2023-04-30/
LOCATION:Altona Sports Centre\, 1 Andrew Park Drive\, Altona Meadows\, Victoria\, 3028\, Australia
CATEGORIES:Ready Steady Go Kids
ATTACH;FMTTYPE=image/png:https://altonasportscentre.com.au/wp-content/uploads/2023/04/RSGK-Term-2-2023-Sunday-Website.png
ORGANIZER;CN="Altona%20Sports%20Centre":MAILTO:bookings@altonasportscentre.com.au
END:VEVENT
BEGIN:VEVENT
DTSTART;TZID=Australia/Melbourne:20230502T091500
DTEND;TZID=Australia/Melbourne:20230502T111500
DTSTAMP:20260420T152618
CREATED:20230418T001824Z
LAST-MODIFIED:20230419T000159Z
UID:11856-1683018900-1683026100@altonasportscentre.com.au
SUMMARY:Ready Steady Go Kids - Tuesday Sessions
DESCRIPTION:  \nAustralia’s largest multi-sport program for 1.5-6 year olds! \nReady Steady Go Kids is designed to introduce children to the fundamentals of 10 different sports including soccer\, tennis\, basketball\, hockey\, golf\, AFL\, rugby\, athletics\, cricket and T-Ball. \nClasses are structured into different age groups so your child receives the best outcome for their developmental needs. \n  \nTuesday sessions – starting 2nd May to 20th June: \n09:15am – 09:45am  |  1.5 – 2.5 year olds \n09:45am – 10:30am  |  3 – 4 year olds \n10:30am – 11:15am  |  4 – 6 year olds \nClasses contain no more than 14 children and have a 1:7 instructor to student ratio. \nClasses for 1.5-2.5 year old children have no more than 10 participants and 2 instructors. \n  \nPlease enrol via this link: \nThe times of available classes (readysteadygokids.com.au) \n  \nPlease note sessions will not run on public holidays.
URL:https://altonasportscentre.com.au/event/ready-steady-go-kids-tuesday-sessions/2023-05-02/
LOCATION:Altona Sports Centre\, 1 Andrew Park Drive\, Altona Meadows\, Victoria\, 3028\, Australia
CATEGORIES:Ready Steady Go Kids
ATTACH;FMTTYPE=image/png:https://altonasportscentre.com.au/wp-content/uploads/2023/04/RSGK-Term-2-2023-Tuesday-Website.png
END:VEVENT
END:VCALENDAR