BEGIN:VCALENDAR
VERSION:2.0
PRODID:-//Altona Sports Centre - ECPv6.1.4//NONSGML v1.0//EN
CALSCALE:GREGORIAN
METHOD:PUBLISH
X-WR-CALNAME:Altona Sports Centre
X-ORIGINAL-URL:https://altonasportscentre.com.au
X-WR-CALDESC:Events for Altona Sports Centre
REFRESH-INTERVAL;VALUE=DURATION:PT1H
X-Robots-Tag:noindex
X-PUBLISHED-TTL:PT1H
BEGIN:VTIMEZONE
TZID:Australia/Melbourne
BEGIN:STANDARD
TZOFFSETFROM:+1100
TZOFFSETTO:+1000
TZNAME:AEST
DTSTART:20220402T160000
END:STANDARD
BEGIN:DAYLIGHT
TZOFFSETFROM:+1000
TZOFFSETTO:+1100
TZNAME:AEDT
DTSTART:20221001T160000
END:DAYLIGHT
END:VTIMEZONE
BEGIN:VEVENT
DTSTART;TZID=Australia/Melbourne:20221009T084500
DTEND;TZID=Australia/Melbourne:20221009T110000
DTSTAMP:20260420T061427
CREATED:20220906T044852Z
LAST-MODIFIED:20221017T031616Z
UID:9771-1665305100-1665313200@altonasportscentre.com.au
SUMMARY:Ready Steady Go Kids - Sunday
DESCRIPTION:Australia’s largest multi-sport program for 1.5-6 year olds! \nClasses are structured into different age groups so your child receives the best outcome for their developmental needs. \nSunday – Starting 9th October to 18th December: \n\n\n\n8:45am – 2.5-3 year olds\n9:30am – 3-4 year olds\n10:15am – 4-6 year olds\n\n\n\nLearn the basics of different sports this term including Athletics\, Basketball\, Golf\, Rugby and T-Ball. \nClasses contain no more than 14 children and have a 1:7 instructor to student ratio. \nRegister via this link: \nThe times of available classes (readysteadygokids.com.au)
URL:https://altonasportscentre.com.au/event/ready-steady-go-kids-sunday-11/2022-10-09/
LOCATION:Altona Sports Centre\, 1 Andrew Park Drive\, Altona Meadows\, Victoria\, 3028\, Australia
CATEGORIES:Ready Steady Go Kids
ATTACH;FMTTYPE=image/jpeg:https://altonasportscentre.com.au/wp-content/uploads/2022/09/RSGK-Website.jpg
ORGANIZER;CN="Altona%20Sports%20Centre":MAILTO:bookings@altonasportscentre.com.au
END:VEVENT
END:VCALENDAR