BEGIN:VCALENDAR
VERSION:2.0
PRODID:-//Altona Sports Centre - ECPv6.1.4//NONSGML v1.0//EN
CALSCALE:GREGORIAN
METHOD:PUBLISH
X-ORIGINAL-URL:https://altonasportscentre.com.au
X-WR-CALDESC:Events for Altona Sports Centre
REFRESH-INTERVAL;VALUE=DURATION:PT1H
X-Robots-Tag:noindex
X-PUBLISHED-TTL:PT1H
BEGIN:VTIMEZONE
TZID:Australia/Melbourne
BEGIN:STANDARD
TZOFFSETFROM:+1100
TZOFFSETTO:+1000
TZNAME:AEST
DTSTART:20220402T160000
END:STANDARD
BEGIN:DAYLIGHT
TZOFFSETFROM:+1000
TZOFFSETTO:+1100
TZNAME:AEDT
DTSTART:20221001T160000
END:DAYLIGHT
END:VTIMEZONE
BEGIN:VEVENT
DTSTART;TZID=Australia/Melbourne:20220902T091500
DTEND;TZID=Australia/Melbourne:20220902T111500
DTSTAMP:20260420T061425
CREATED:20220707T011947Z
LAST-MODIFIED:20220707T011947Z
UID:9116-1662110100-1662117300@altonasportscentre.com.au
SUMMARY:Ready Steady Go Kids - Friday
DESCRIPTION:Australia’s largest multi-sport program for 1.5-6 year olds! \nClasses are structured into different age groups so your child receives the best outcome for their developmental needs. \nFriday – Starting 15th July to 16th September: \n\n\n\n9:15am – 1.5-2.5 year olds\n9:45am – 2.5-4 year olds\n10:30am – 4-6 year olds\n\n\n\nLearn the basics of 10 different sports including Soccer\, Tennis\, Hockey\, T-Ball\, Cricket\, Athletics\, Basketball\, Rugby\, AFL and Golf (5 sports covered per term). \nClasses contain no more than 14 children and have a 1:7 instructor to student ratio. \nClasses for 1.5-2.5 year old children have no more than 10 participants and 2 instructors. \nRegister via this link: \nThe times of available classes (readysteadygokids.com.au)
URL:https://altonasportscentre.com.au/event/ready-steady-go-kids-friday-8/
LOCATION:Altona Sports Centre\, 1 Andrew Park Drive\, Altona Meadows\, Victoria\, 3028\, Australia
CATEGORIES:Ready Steady Go Kids
ATTACH;FMTTYPE=image/jpeg:https://altonasportscentre.com.au/wp-content/uploads/2022/06/RSGK-Socials.jpg
ORGANIZER;CN="Altona%20Sports%20Centre":MAILTO:bookings@altonasportscentre.com.au
END:VEVENT
BEGIN:VEVENT
DTSTART;TZID=Australia/Melbourne:20220904T090000
DTEND;TZID=Australia/Melbourne:20220904T110000
DTSTAMP:20260420T061425
CREATED:20220707T012716Z
LAST-MODIFIED:20220707T012716Z
UID:9134-1662282000-1662289200@altonasportscentre.com.au
SUMMARY:Ready Steady Go Kids - Sunday
DESCRIPTION:Australia’s largest multi-sport program for 1.5-6 year olds! \nClasses are structured into different age groups so your child receives the best outcome for their developmental needs. \nSunday – Starting 17th July to 18th September: \n\n\n\n9:00am – 1.5-2.5 year olds\n9:30am – 2.5-4 year olds\n10:15am – 4-6 year olds\n\n\n\nLearn the basics of 10 different sports including Soccer\, Tennis\, Hockey\, T-Ball\, Cricket\, Athletics\, Basketball\, Rugby\, AFL and Golf (5 sports covered per term). \nClasses contain no more than 14 children and have a 1:7 instructor to student ratio. \nClasses for 1.5-2.5 year old children have no more than 10 participants and 2 instructors. \nRegister via this link: \nThe times of available classes (readysteadygokids.com.au)
URL:https://altonasportscentre.com.au/event/ready-steady-go-kids-sunday-8/
LOCATION:Altona Sports Centre\, 1 Andrew Park Drive\, Altona Meadows\, Victoria\, 3028\, Australia
CATEGORIES:Ready Steady Go Kids
ATTACH;FMTTYPE=image/jpeg:https://altonasportscentre.com.au/wp-content/uploads/2022/06/RSGK-Socials.jpg
ORGANIZER;CN="Altona%20Sports%20Centre":MAILTO:bookings@altonasportscentre.com.au
END:VEVENT
BEGIN:VEVENT
DTSTART;TZID=Australia/Melbourne:20220906T091500
DTEND;TZID=Australia/Melbourne:20220906T111500
DTSTAMP:20260420T061425
CREATED:20220707T011446Z
LAST-MODIFIED:20220707T011446Z
UID:9100-1662455700-1662462900@altonasportscentre.com.au
SUMMARY:Ready Steady Go Kids - Tuesday
DESCRIPTION:Australia’s largest multi-sport program for 1.5-6 year olds! \nClasses are structured into different age groups so your child receives the best outcome for their developmental needs. \nTuesday – Starting 12th July to 13th September: \n\n\n\n9:15am – 1.5-2.5 year olds\n9:45am – 2.5-4 year olds\n10:30am – 4-6 year olds\n\n\n\nLearn the basics of 10 different sports including Soccer\, Tennis\, Hockey\, T-Ball\, Cricket\, Athletics\, Basketball\, Rugby\, AFL and Golf (5 sports covered per term). \nClasses contain no more than 14 children and have a 1:7 instructor to student ratio. \nClasses for 1.5-2.5 year old children have no more than 10 participants and 2 instructors. \nRegister via this link: \nThe times of available classes (readysteadygokids.com.au)
URL:https://altonasportscentre.com.au/event/ready-steady-go-kids-tuesday-9/
LOCATION:Altona Sports Centre\, 1 Andrew Park Drive\, Altona Meadows\, Victoria\, 3028\, Australia
CATEGORIES:Ready Steady Go Kids
ATTACH;FMTTYPE=image/jpeg:https://altonasportscentre.com.au/wp-content/uploads/2022/06/RSGK-Socials.jpg
ORGANIZER;CN="Altona%20Sports%20Centre":MAILTO:bookings@altonasportscentre.com.au
END:VEVENT
BEGIN:VEVENT
DTSTART;TZID=Australia/Melbourne:20220909T091500
DTEND;TZID=Australia/Melbourne:20220909T111500
DTSTAMP:20260420T061425
CREATED:20220707T012014Z
LAST-MODIFIED:20220707T012014Z
UID:9118-1662714900-1662722100@altonasportscentre.com.au
SUMMARY:Ready Steady Go Kids - Friday
DESCRIPTION:Australia’s largest multi-sport program for 1.5-6 year olds! \nClasses are structured into different age groups so your child receives the best outcome for their developmental needs. \nFriday – Starting 15th July to 16th September: \n\n\n\n9:15am – 1.5-2.5 year olds\n9:45am – 2.5-4 year olds\n10:30am – 4-6 year olds\n\n\n\nLearn the basics of 10 different sports including Soccer\, Tennis\, Hockey\, T-Ball\, Cricket\, Athletics\, Basketball\, Rugby\, AFL and Golf (5 sports covered per term). \nClasses contain no more than 14 children and have a 1:7 instructor to student ratio. \nClasses for 1.5-2.5 year old children have no more than 10 participants and 2 instructors. \nRegister via this link: \nThe times of available classes (readysteadygokids.com.au)
URL:https://altonasportscentre.com.au/event/ready-steady-go-kids-friday-9/
LOCATION:Altona Sports Centre\, 1 Andrew Park Drive\, Altona Meadows\, Victoria\, 3028\, Australia
CATEGORIES:Ready Steady Go Kids
ATTACH;FMTTYPE=image/jpeg:https://altonasportscentre.com.au/wp-content/uploads/2022/06/RSGK-Socials.jpg
ORGANIZER;CN="Altona%20Sports%20Centre":MAILTO:bookings@altonasportscentre.com.au
END:VEVENT
BEGIN:VEVENT
DTSTART;TZID=Australia/Melbourne:20220911T090000
DTEND;TZID=Australia/Melbourne:20220911T110000
DTSTAMP:20260420T061425
CREATED:20220707T012745Z
LAST-MODIFIED:20220707T012745Z
UID:9136-1662886800-1662894000@altonasportscentre.com.au
SUMMARY:Ready Steady Go Kids - Sunday
DESCRIPTION:Australia’s largest multi-sport program for 1.5-6 year olds! \nClasses are structured into different age groups so your child receives the best outcome for their developmental needs. \nSunday – Starting 17th July to 18th September: \n\n\n\n9:00am – 1.5-2.5 year olds\n9:30am – 2.5-4 year olds\n10:15am – 4-6 year olds\n\n\n\nLearn the basics of 10 different sports including Soccer\, Tennis\, Hockey\, T-Ball\, Cricket\, Athletics\, Basketball\, Rugby\, AFL and Golf (5 sports covered per term). \nClasses contain no more than 14 children and have a 1:7 instructor to student ratio. \nClasses for 1.5-2.5 year old children have no more than 10 participants and 2 instructors. \nRegister via this link: \nThe times of available classes (readysteadygokids.com.au)
URL:https://altonasportscentre.com.au/event/ready-steady-go-kids-sunday-9/
LOCATION:Altona Sports Centre\, 1 Andrew Park Drive\, Altona Meadows\, Victoria\, 3028\, Australia
CATEGORIES:Ready Steady Go Kids
ATTACH;FMTTYPE=image/jpeg:https://altonasportscentre.com.au/wp-content/uploads/2022/06/RSGK-Socials.jpg
ORGANIZER;CN="Altona%20Sports%20Centre":MAILTO:bookings@altonasportscentre.com.au
END:VEVENT
BEGIN:VEVENT
DTSTART;TZID=Australia/Melbourne:20220913T091500
DTEND;TZID=Australia/Melbourne:20220913T111500
DTSTAMP:20260420T061425
CREATED:20220707T011514Z
LAST-MODIFIED:20220707T011514Z
UID:9102-1663060500-1663067700@altonasportscentre.com.au
SUMMARY:Ready Steady Go Kids - Tuesday
DESCRIPTION:Australia’s largest multi-sport program for 1.5-6 year olds! \nClasses are structured into different age groups so your child receives the best outcome for their developmental needs. \nTuesday – Starting 12th July to 13th September: \n\n\n\n9:15am – 1.5-2.5 year olds\n9:45am – 2.5-4 year olds\n10:30am – 4-6 year olds\n\n\n\nLearn the basics of 10 different sports including Soccer\, Tennis\, Hockey\, T-Ball\, Cricket\, Athletics\, Basketball\, Rugby\, AFL and Golf (5 sports covered per term). \nClasses contain no more than 14 children and have a 1:7 instructor to student ratio. \nClasses for 1.5-2.5 year old children have no more than 10 participants and 2 instructors. \nRegister via this link: \nThe times of available classes (readysteadygokids.com.au)
URL:https://altonasportscentre.com.au/event/ready-steady-go-kids-tuesday-10/
LOCATION:Altona Sports Centre\, 1 Andrew Park Drive\, Altona Meadows\, Victoria\, 3028\, Australia
CATEGORIES:Ready Steady Go Kids
ATTACH;FMTTYPE=image/jpeg:https://altonasportscentre.com.au/wp-content/uploads/2022/06/RSGK-Socials.jpg
ORGANIZER;CN="Altona%20Sports%20Centre":MAILTO:bookings@altonasportscentre.com.au
END:VEVENT
BEGIN:VEVENT
DTSTART;TZID=Australia/Melbourne:20220916T091500
DTEND;TZID=Australia/Melbourne:20220916T111500
DTSTAMP:20260420T061425
CREATED:20220707T012044Z
LAST-MODIFIED:20220707T012044Z
UID:9120-1663319700-1663326900@altonasportscentre.com.au
SUMMARY:Ready Steady Go Kids - Friday
DESCRIPTION:Australia’s largest multi-sport program for 1.5-6 year olds! \nClasses are structured into different age groups so your child receives the best outcome for their developmental needs. \nFriday – Starting 15th July to 16th September: \n\n\n\n9:15am – 1.5-2.5 year olds\n9:45am – 2.5-4 year olds\n10:30am – 4-6 year olds\n\n\n\nLearn the basics of 10 different sports including Soccer\, Tennis\, Hockey\, T-Ball\, Cricket\, Athletics\, Basketball\, Rugby\, AFL and Golf (5 sports covered per term). \nClasses contain no more than 14 children and have a 1:7 instructor to student ratio. \nClasses for 1.5-2.5 year old children have no more than 10 participants and 2 instructors. \nRegister via this link: \nThe times of available classes (readysteadygokids.com.au)
URL:https://altonasportscentre.com.au/event/ready-steady-go-kids-friday-10/
LOCATION:Altona Sports Centre\, 1 Andrew Park Drive\, Altona Meadows\, Victoria\, 3028\, Australia
CATEGORIES:Ready Steady Go Kids
ATTACH;FMTTYPE=image/jpeg:https://altonasportscentre.com.au/wp-content/uploads/2022/06/RSGK-Socials.jpg
ORGANIZER;CN="Altona%20Sports%20Centre":MAILTO:bookings@altonasportscentre.com.au
END:VEVENT
BEGIN:VEVENT
DTSTART;TZID=Australia/Melbourne:20220918T090000
DTEND;TZID=Australia/Melbourne:20220918T110000
DTSTAMP:20260420T061425
CREATED:20220707T012909Z
LAST-MODIFIED:20220707T013117Z
UID:9138-1663491600-1663498800@altonasportscentre.com.au
SUMMARY:Ready Steady Go Kids - Sunday
DESCRIPTION:Australia’s largest multi-sport program for 1.5-6 year olds! \nClasses are structured into different age groups so your child receives the best outcome for their developmental needs. \nSunday – Starting 17th July to 18th September: \n\n\n\n9:00am – 1.5-2.5 year olds\n9:30am – 2.5-4 year olds\n10:15am – 4-6 year olds\n\n\n\nLearn the basics of 10 different sports including Soccer\, Tennis\, Hockey\, T-Ball\, Cricket\, Athletics\, Basketball\, Rugby\, AFL and Golf (5 sports covered per term). \nClasses contain no more than 14 children and have a 1:7 instructor to student ratio. \nClasses for 1.5-2.5 year old children have no more than 10 participants and 2 instructors. \nRegister via this link: \nThe times of available classes (readysteadygokids.com.au)
URL:https://altonasportscentre.com.au/event/ready-steady-go-kids-sunday-10/
LOCATION:Altona Sports Centre\, 1 Andrew Park Drive\, Altona Meadows\, Victoria\, 3028\, Australia
CATEGORIES:Ready Steady Go Kids
ATTACH;FMTTYPE=image/jpeg:https://altonasportscentre.com.au/wp-content/uploads/2022/06/RSGK-Socials.jpg
ORGANIZER;CN="Altona%20Sports%20Centre":MAILTO:bookings@altonasportscentre.com.au
END:VEVENT
END:VCALENDAR