BEGIN:VCALENDAR
VERSION:2.0
PRODID:-//Altona Sports Centre - ECPv6.1.4//NONSGML v1.0//EN
CALSCALE:GREGORIAN
METHOD:PUBLISH
X-ORIGINAL-URL:https://altonasportscentre.com.au
X-WR-CALDESC:Events for Altona Sports Centre
REFRESH-INTERVAL;VALUE=DURATION:PT1H
X-Robots-Tag:noindex
X-PUBLISHED-TTL:PT1H
BEGIN:VTIMEZONE
TZID:Australia/Melbourne
BEGIN:STANDARD
TZOFFSETFROM:+1100
TZOFFSETTO:+1000
TZNAME:AEST
DTSTART:20220402T160000
END:STANDARD
BEGIN:DAYLIGHT
TZOFFSETFROM:+1000
TZOFFSETTO:+1100
TZNAME:AEDT
DTSTART:20221001T160000
END:DAYLIGHT
END:VTIMEZONE
BEGIN:VEVENT
DTSTART;TZID=Australia/Melbourne:20220802T091500
DTEND;TZID=Australia/Melbourne:20220802T111500
DTSTAMP:20260420T075809
CREATED:20220707T011203Z
LAST-MODIFIED:20220707T011203Z
UID:9090-1659431700-1659438900@altonasportscentre.com.au
SUMMARY:Ready Steady Go Kids - Tuesday
DESCRIPTION:Australia’s largest multi-sport program for 1.5-6 year olds! \nClasses are structured into different age groups so your child receives the best outcome for their developmental needs. \nTuesday – Starting 12th July to 13th September: \n\n\n\n9:15am – 1.5-2.5 year olds\n9:45am – 2.5-4 year olds\n10:30am – 4-6 year olds\n\n\n\nLearn the basics of 10 different sports including Soccer\, Tennis\, Hockey\, T-Ball\, Cricket\, Athletics\, Basketball\, Rugby\, AFL and Golf (5 sports covered per term). \nClasses contain no more than 14 children and have a 1:7 instructor to student ratio. \nClasses for 1.5-2.5 year old children have no more than 10 participants and 2 instructors. \nRegister via this link: \nThe times of available classes (readysteadygokids.com.au)
URL:https://altonasportscentre.com.au/event/ready-steady-go-kids-tuesday-4/
LOCATION:Altona Sports Centre\, 1 Andrew Park Drive\, Altona Meadows\, Victoria\, 3028\, Australia
CATEGORIES:Ready Steady Go Kids
ATTACH;FMTTYPE=image/jpeg:https://altonasportscentre.com.au/wp-content/uploads/2022/06/RSGK-Socials.jpg
ORGANIZER;CN="Altona%20Sports%20Centre":MAILTO:bookings@altonasportscentre.com.au
END:VEVENT
BEGIN:VEVENT
DTSTART;TZID=Australia/Melbourne:20220805T091500
DTEND;TZID=Australia/Melbourne:20220805T111500
DTSTAMP:20260420T075809
CREATED:20220707T011710Z
LAST-MODIFIED:20220707T011710Z
UID:9108-1659690900-1659698100@altonasportscentre.com.au
SUMMARY:Ready Steady Go Kids - Friday
DESCRIPTION:Australia’s largest multi-sport program for 1.5-6 year olds! \nClasses are structured into different age groups so your child receives the best outcome for their developmental needs. \nFriday – Starting 15th July to 16th September: \n\n\n\n9:15am – 1.5-2.5 year olds\n9:45am – 2.5-4 year olds\n10:30am – 4-6 year olds\n\n\n\nLearn the basics of 10 different sports including Soccer\, Tennis\, Hockey\, T-Ball\, Cricket\, Athletics\, Basketball\, Rugby\, AFL and Golf (5 sports covered per term). \nClasses contain no more than 14 children and have a 1:7 instructor to student ratio. \nClasses for 1.5-2.5 year old children have no more than 10 participants and 2 instructors. \nRegister via this link: \nThe times of available classes (readysteadygokids.com.au)
URL:https://altonasportscentre.com.au/event/ready-steady-go-kids-friday-4/
LOCATION:Altona Sports Centre\, 1 Andrew Park Drive\, Altona Meadows\, Victoria\, 3028\, Australia
CATEGORIES:Ready Steady Go Kids
ATTACH;FMTTYPE=image/jpeg:https://altonasportscentre.com.au/wp-content/uploads/2022/06/RSGK-Socials.jpg
ORGANIZER;CN="Altona%20Sports%20Centre":MAILTO:bookings@altonasportscentre.com.au
END:VEVENT
BEGIN:VEVENT
DTSTART;TZID=Australia/Melbourne:20220807T090000
DTEND;TZID=Australia/Melbourne:20220807T110000
DTSTAMP:20260420T075809
CREATED:20220707T012337Z
LAST-MODIFIED:20220707T012337Z
UID:9126-1659862800-1659870000@altonasportscentre.com.au
SUMMARY:Ready Steady Go Kids - Sunday
DESCRIPTION:Australia’s largest multi-sport program for 1.5-6 year olds! \nClasses are structured into different age groups so your child receives the best outcome for their developmental needs. \nSunday – Starting 17th July to 18th September: \n\n\n\n9:00am – 1.5-2.5 year olds\n9:30am – 2.5-4 year olds\n10:15am – 4-6 year olds\n\n\n\nLearn the basics of 10 different sports including Soccer\, Tennis\, Hockey\, T-Ball\, Cricket\, Athletics\, Basketball\, Rugby\, AFL and Golf (5 sports covered per term). \nClasses contain no more than 14 children and have a 1:7 instructor to student ratio. \nClasses for 1.5-2.5 year old children have no more than 10 participants and 2 instructors. \nRegister via this link: \nThe times of available classes (readysteadygokids.com.au)
URL:https://altonasportscentre.com.au/event/ready-steady-go-kids-sunday-4/
LOCATION:Altona Sports Centre\, 1 Andrew Park Drive\, Altona Meadows\, Victoria\, 3028\, Australia
CATEGORIES:Ready Steady Go Kids
ATTACH;FMTTYPE=image/jpeg:https://altonasportscentre.com.au/wp-content/uploads/2022/06/RSGK-Socials.jpg
ORGANIZER;CN="Altona%20Sports%20Centre":MAILTO:bookings@altonasportscentre.com.au
END:VEVENT
BEGIN:VEVENT
DTSTART;TZID=Australia/Melbourne:20220809T091500
DTEND;TZID=Australia/Melbourne:20220809T111500
DTSTAMP:20260420T075809
CREATED:20220707T011226Z
LAST-MODIFIED:20220707T011226Z
UID:9092-1660036500-1660043700@altonasportscentre.com.au
SUMMARY:Ready Steady Go Kids - Tuesday
DESCRIPTION:Australia’s largest multi-sport program for 1.5-6 year olds! \nClasses are structured into different age groups so your child receives the best outcome for their developmental needs. \nTuesday – Starting 12th July to 13th September: \n\n\n\n9:15am – 1.5-2.5 year olds\n9:45am – 2.5-4 year olds\n10:30am – 4-6 year olds\n\n\n\nLearn the basics of 10 different sports including Soccer\, Tennis\, Hockey\, T-Ball\, Cricket\, Athletics\, Basketball\, Rugby\, AFL and Golf (5 sports covered per term). \nClasses contain no more than 14 children and have a 1:7 instructor to student ratio. \nClasses for 1.5-2.5 year old children have no more than 10 participants and 2 instructors. \nRegister via this link: \nThe times of available classes (readysteadygokids.com.au)
URL:https://altonasportscentre.com.au/event/ready-steady-go-kids-tuesday-5/
LOCATION:Altona Sports Centre\, 1 Andrew Park Drive\, Altona Meadows\, Victoria\, 3028\, Australia
CATEGORIES:Ready Steady Go Kids
ATTACH;FMTTYPE=image/jpeg:https://altonasportscentre.com.au/wp-content/uploads/2022/06/RSGK-Socials.jpg
ORGANIZER;CN="Altona%20Sports%20Centre":MAILTO:bookings@altonasportscentre.com.au
END:VEVENT
BEGIN:VEVENT
DTSTART;TZID=Australia/Melbourne:20220812T091500
DTEND;TZID=Australia/Melbourne:20220812T111500
DTSTAMP:20260420T075809
CREATED:20220707T011740Z
LAST-MODIFIED:20220707T011740Z
UID:9110-1660295700-1660302900@altonasportscentre.com.au
SUMMARY:Ready Steady Go Kids - Friday
DESCRIPTION:Australia’s largest multi-sport program for 1.5-6 year olds! \nClasses are structured into different age groups so your child receives the best outcome for their developmental needs. \nFriday – Starting 15th July to 16th September: \n\n\n\n9:15am – 1.5-2.5 year olds\n9:45am – 2.5-4 year olds\n10:30am – 4-6 year olds\n\n\n\nLearn the basics of 10 different sports including Soccer\, Tennis\, Hockey\, T-Ball\, Cricket\, Athletics\, Basketball\, Rugby\, AFL and Golf (5 sports covered per term). \nClasses contain no more than 14 children and have a 1:7 instructor to student ratio. \nClasses for 1.5-2.5 year old children have no more than 10 participants and 2 instructors. \nRegister via this link: \nThe times of available classes (readysteadygokids.com.au)
URL:https://altonasportscentre.com.au/event/ready-steady-go-kids-friday-5/
LOCATION:Altona Sports Centre\, 1 Andrew Park Drive\, Altona Meadows\, Victoria\, 3028\, Australia
CATEGORIES:Ready Steady Go Kids
ATTACH;FMTTYPE=image/jpeg:https://altonasportscentre.com.au/wp-content/uploads/2022/06/RSGK-Socials.jpg
ORGANIZER;CN="Altona%20Sports%20Centre":MAILTO:bookings@altonasportscentre.com.au
END:VEVENT
BEGIN:VEVENT
DTSTART;TZID=Australia/Melbourne:20220814T090000
DTEND;TZID=Australia/Melbourne:20220814T110000
DTSTAMP:20260420T075809
CREATED:20220707T012607Z
LAST-MODIFIED:20220707T012607Z
UID:9128-1660467600-1660474800@altonasportscentre.com.au
SUMMARY:Ready Steady Go Kids - Sunday
DESCRIPTION:Australia’s largest multi-sport program for 1.5-6 year olds! \nClasses are structured into different age groups so your child receives the best outcome for their developmental needs. \nSunday – Starting 17th July to 18th September: \n\n\n\n9:00am – 1.5-2.5 year olds\n9:30am – 2.5-4 year olds\n10:15am – 4-6 year olds\n\n\n\nLearn the basics of 10 different sports including Soccer\, Tennis\, Hockey\, T-Ball\, Cricket\, Athletics\, Basketball\, Rugby\, AFL and Golf (5 sports covered per term). \nClasses contain no more than 14 children and have a 1:7 instructor to student ratio. \nClasses for 1.5-2.5 year old children have no more than 10 participants and 2 instructors. \nRegister via this link: \nThe times of available classes (readysteadygokids.com.au)
URL:https://altonasportscentre.com.au/event/ready-steady-go-kids-sunday-5/
LOCATION:Altona Sports Centre\, 1 Andrew Park Drive\, Altona Meadows\, Victoria\, 3028\, Australia
CATEGORIES:Ready Steady Go Kids
ATTACH;FMTTYPE=image/jpeg:https://altonasportscentre.com.au/wp-content/uploads/2022/06/RSGK-Socials.jpg
ORGANIZER;CN="Altona%20Sports%20Centre":MAILTO:bookings@altonasportscentre.com.au
END:VEVENT
BEGIN:VEVENT
DTSTART;TZID=Australia/Melbourne:20220816T091500
DTEND;TZID=Australia/Melbourne:20220816T111500
DTSTAMP:20260420T075809
CREATED:20220707T011247Z
LAST-MODIFIED:20220707T011247Z
UID:9094-1660641300-1660648500@altonasportscentre.com.au
SUMMARY:Ready Steady Go Kids - Tuesday
DESCRIPTION:Australia’s largest multi-sport program for 1.5-6 year olds! \nClasses are structured into different age groups so your child receives the best outcome for their developmental needs. \nTuesday – Starting 12th July to 13th September: \n\n\n\n9:15am – 1.5-2.5 year olds\n9:45am – 2.5-4 year olds\n10:30am – 4-6 year olds\n\n\n\nLearn the basics of 10 different sports including Soccer\, Tennis\, Hockey\, T-Ball\, Cricket\, Athletics\, Basketball\, Rugby\, AFL and Golf (5 sports covered per term). \nClasses contain no more than 14 children and have a 1:7 instructor to student ratio. \nClasses for 1.5-2.5 year old children have no more than 10 participants and 2 instructors. \nRegister via this link: \nThe times of available classes (readysteadygokids.com.au)
URL:https://altonasportscentre.com.au/event/ready-steady-go-kids-tuesday-6/
LOCATION:Altona Sports Centre\, 1 Andrew Park Drive\, Altona Meadows\, Victoria\, 3028\, Australia
CATEGORIES:Ready Steady Go Kids
ATTACH;FMTTYPE=image/jpeg:https://altonasportscentre.com.au/wp-content/uploads/2022/06/RSGK-Socials.jpg
ORGANIZER;CN="Altona%20Sports%20Centre":MAILTO:bookings@altonasportscentre.com.au
END:VEVENT
BEGIN:VEVENT
DTSTART;TZID=Australia/Melbourne:20220819T091500
DTEND;TZID=Australia/Melbourne:20220819T111500
DTSTAMP:20260420T075809
CREATED:20220707T011844Z
LAST-MODIFIED:20220707T011844Z
UID:9112-1660900500-1660907700@altonasportscentre.com.au
SUMMARY:Ready Steady Go Kids - Friday
DESCRIPTION:Australia’s largest multi-sport program for 1.5-6 year olds! \nClasses are structured into different age groups so your child receives the best outcome for their developmental needs. \nFriday – Starting 15th July to 16th September: \n\n\n\n9:15am – 1.5-2.5 year olds\n9:45am – 2.5-4 year olds\n10:30am – 4-6 year olds\n\n\n\nLearn the basics of 10 different sports including Soccer\, Tennis\, Hockey\, T-Ball\, Cricket\, Athletics\, Basketball\, Rugby\, AFL and Golf (5 sports covered per term). \nClasses contain no more than 14 children and have a 1:7 instructor to student ratio. \nClasses for 1.5-2.5 year old children have no more than 10 participants and 2 instructors. \nRegister via this link: \nThe times of available classes (readysteadygokids.com.au)
URL:https://altonasportscentre.com.au/event/ready-steady-go-kids-friday-6/
LOCATION:Altona Sports Centre\, 1 Andrew Park Drive\, Altona Meadows\, Victoria\, 3028\, Australia
CATEGORIES:Ready Steady Go Kids
ATTACH;FMTTYPE=image/jpeg:https://altonasportscentre.com.au/wp-content/uploads/2022/06/RSGK-Socials.jpg
ORGANIZER;CN="Altona%20Sports%20Centre":MAILTO:bookings@altonasportscentre.com.au
END:VEVENT
BEGIN:VEVENT
DTSTART;TZID=Australia/Melbourne:20220821T090000
DTEND;TZID=Australia/Melbourne:20220821T110000
DTSTAMP:20260420T075809
CREATED:20220707T012625Z
LAST-MODIFIED:20220707T012625Z
UID:9130-1661072400-1661079600@altonasportscentre.com.au
SUMMARY:Ready Steady Go Kids - Sunday
DESCRIPTION:Australia’s largest multi-sport program for 1.5-6 year olds! \nClasses are structured into different age groups so your child receives the best outcome for their developmental needs. \nSunday – Starting 17th July to 18th September: \n\n\n\n9:00am – 1.5-2.5 year olds\n9:30am – 2.5-4 year olds\n10:15am – 4-6 year olds\n\n\n\nLearn the basics of 10 different sports including Soccer\, Tennis\, Hockey\, T-Ball\, Cricket\, Athletics\, Basketball\, Rugby\, AFL and Golf (5 sports covered per term). \nClasses contain no more than 14 children and have a 1:7 instructor to student ratio. \nClasses for 1.5-2.5 year old children have no more than 10 participants and 2 instructors. \nRegister via this link: \nThe times of available classes (readysteadygokids.com.au)
URL:https://altonasportscentre.com.au/event/ready-steady-go-kids-sunday-6/
LOCATION:Altona Sports Centre\, 1 Andrew Park Drive\, Altona Meadows\, Victoria\, 3028\, Australia
CATEGORIES:Ready Steady Go Kids
ATTACH;FMTTYPE=image/jpeg:https://altonasportscentre.com.au/wp-content/uploads/2022/06/RSGK-Socials.jpg
ORGANIZER;CN="Altona%20Sports%20Centre":MAILTO:bookings@altonasportscentre.com.au
END:VEVENT
BEGIN:VEVENT
DTSTART;TZID=Australia/Melbourne:20220823T091500
DTEND;TZID=Australia/Melbourne:20220823T111500
DTSTAMP:20260420T075809
CREATED:20220707T011315Z
LAST-MODIFIED:20220707T011315Z
UID:9096-1661246100-1661253300@altonasportscentre.com.au
SUMMARY:Ready Steady Go Kids - Tuesday
DESCRIPTION:Australia’s largest multi-sport program for 1.5-6 year olds! \nClasses are structured into different age groups so your child receives the best outcome for their developmental needs. \nTuesday – Starting 12th July to 13th September: \n\n\n\n9:15am – 1.5-2.5 year olds\n9:45am – 2.5-4 year olds\n10:30am – 4-6 year olds\n\n\n\nLearn the basics of 10 different sports including Soccer\, Tennis\, Hockey\, T-Ball\, Cricket\, Athletics\, Basketball\, Rugby\, AFL and Golf (5 sports covered per term). \nClasses contain no more than 14 children and have a 1:7 instructor to student ratio. \nClasses for 1.5-2.5 year old children have no more than 10 participants and 2 instructors. \nRegister via this link: \nThe times of available classes (readysteadygokids.com.au)
URL:https://altonasportscentre.com.au/event/ready-steady-go-kids-tuesday-7/
LOCATION:Altona Sports Centre\, 1 Andrew Park Drive\, Altona Meadows\, Victoria\, 3028\, Australia
CATEGORIES:Ready Steady Go Kids
ATTACH;FMTTYPE=image/jpeg:https://altonasportscentre.com.au/wp-content/uploads/2022/06/RSGK-Socials.jpg
ORGANIZER;CN="Altona%20Sports%20Centre":MAILTO:bookings@altonasportscentre.com.au
END:VEVENT
BEGIN:VEVENT
DTSTART;TZID=Australia/Melbourne:20220826T091500
DTEND;TZID=Australia/Melbourne:20220826T111500
DTSTAMP:20260420T075809
CREATED:20220707T011917Z
LAST-MODIFIED:20220707T011917Z
UID:9114-1661505300-1661512500@altonasportscentre.com.au
SUMMARY:Ready Steady Go Kids - Friday
DESCRIPTION:Australia’s largest multi-sport program for 1.5-6 year olds! \nClasses are structured into different age groups so your child receives the best outcome for their developmental needs. \nFriday – Starting 15th July to 16th September: \n\n\n\n9:15am – 1.5-2.5 year olds\n9:45am – 2.5-4 year olds\n10:30am – 4-6 year olds\n\n\n\nLearn the basics of 10 different sports including Soccer\, Tennis\, Hockey\, T-Ball\, Cricket\, Athletics\, Basketball\, Rugby\, AFL and Golf (5 sports covered per term). \nClasses contain no more than 14 children and have a 1:7 instructor to student ratio. \nClasses for 1.5-2.5 year old children have no more than 10 participants and 2 instructors. \nRegister via this link: \nThe times of available classes (readysteadygokids.com.au)
URL:https://altonasportscentre.com.au/event/ready-steady-go-kids-friday-7/
LOCATION:Altona Sports Centre\, 1 Andrew Park Drive\, Altona Meadows\, Victoria\, 3028\, Australia
CATEGORIES:Ready Steady Go Kids
ATTACH;FMTTYPE=image/jpeg:https://altonasportscentre.com.au/wp-content/uploads/2022/06/RSGK-Socials.jpg
ORGANIZER;CN="Altona%20Sports%20Centre":MAILTO:bookings@altonasportscentre.com.au
END:VEVENT
BEGIN:VEVENT
DTSTART;TZID=Australia/Melbourne:20220828T090000
DTEND;TZID=Australia/Melbourne:20220828T110000
DTSTAMP:20260420T075809
CREATED:20220707T012644Z
LAST-MODIFIED:20220707T012644Z
UID:9132-1661677200-1661684400@altonasportscentre.com.au
SUMMARY:Ready Steady Go Kids - Sunday
DESCRIPTION:Australia’s largest multi-sport program for 1.5-6 year olds! \nClasses are structured into different age groups so your child receives the best outcome for their developmental needs. \nSunday – Starting 17th July to 18th September: \n\n\n\n9:00am – 1.5-2.5 year olds\n9:30am – 2.5-4 year olds\n10:15am – 4-6 year olds\n\n\n\nLearn the basics of 10 different sports including Soccer\, Tennis\, Hockey\, T-Ball\, Cricket\, Athletics\, Basketball\, Rugby\, AFL and Golf (5 sports covered per term). \nClasses contain no more than 14 children and have a 1:7 instructor to student ratio. \nClasses for 1.5-2.5 year old children have no more than 10 participants and 2 instructors. \nRegister via this link: \nThe times of available classes (readysteadygokids.com.au)
URL:https://altonasportscentre.com.au/event/ready-steady-go-kids-sunday-7/
LOCATION:Altona Sports Centre\, 1 Andrew Park Drive\, Altona Meadows\, Victoria\, 3028\, Australia
CATEGORIES:Ready Steady Go Kids
ATTACH;FMTTYPE=image/jpeg:https://altonasportscentre.com.au/wp-content/uploads/2022/06/RSGK-Socials.jpg
ORGANIZER;CN="Altona%20Sports%20Centre":MAILTO:bookings@altonasportscentre.com.au
END:VEVENT
BEGIN:VEVENT
DTSTART;TZID=Australia/Melbourne:20220830T091500
DTEND;TZID=Australia/Melbourne:20220830T111500
DTSTAMP:20260420T075809
CREATED:20220707T011417Z
LAST-MODIFIED:20220707T011417Z
UID:9098-1661850900-1661858100@altonasportscentre.com.au
SUMMARY:Ready Steady Go Kids - Tuesday
DESCRIPTION:Australia’s largest multi-sport program for 1.5-6 year olds! \nClasses are structured into different age groups so your child receives the best outcome for their developmental needs. \nTuesday – Starting 12th July to 13th September: \n\n\n\n9:15am – 1.5-2.5 year olds\n9:45am – 2.5-4 year olds\n10:30am – 4-6 year olds\n\n\n\nLearn the basics of 10 different sports including Soccer\, Tennis\, Hockey\, T-Ball\, Cricket\, Athletics\, Basketball\, Rugby\, AFL and Golf (5 sports covered per term). \nClasses contain no more than 14 children and have a 1:7 instructor to student ratio. \nClasses for 1.5-2.5 year old children have no more than 10 participants and 2 instructors. \nRegister via this link: \nThe times of available classes (readysteadygokids.com.au)
URL:https://altonasportscentre.com.au/event/ready-steady-go-kids-tuesday-8/
LOCATION:Altona Sports Centre\, 1 Andrew Park Drive\, Altona Meadows\, Victoria\, 3028\, Australia
CATEGORIES:Ready Steady Go Kids
ATTACH;FMTTYPE=image/jpeg:https://altonasportscentre.com.au/wp-content/uploads/2022/06/RSGK-Socials.jpg
ORGANIZER;CN="Altona%20Sports%20Centre":MAILTO:bookings@altonasportscentre.com.au
END:VEVENT
END:VCALENDAR