BEGIN:VCALENDAR
VERSION:2.0
PRODID:-//Altona Sports Centre - ECPv6.1.4//NONSGML v1.0//EN
CALSCALE:GREGORIAN
METHOD:PUBLISH
X-ORIGINAL-URL:https://altonasportscentre.com.au
X-WR-CALDESC:Events for Altona Sports Centre
REFRESH-INTERVAL;VALUE=DURATION:PT1H
X-Robots-Tag:noindex
X-PUBLISHED-TTL:PT1H
BEGIN:VTIMEZONE
TZID:Australia/Melbourne
BEGIN:STANDARD
TZOFFSETFROM:+1100
TZOFFSETTO:+1000
TZNAME:AEST
DTSTART:20240406T160000
END:STANDARD
BEGIN:DAYLIGHT
TZOFFSETFROM:+1000
TZOFFSETTO:+1100
TZNAME:AEDT
DTSTART:20241005T160000
END:DAYLIGHT
END:VTIMEZONE
BEGIN:VEVENT
DTSTART;TZID=Australia/Melbourne:20240628T095000
DTEND;TZID=Australia/Melbourne:20240628T110000
DTSTAMP:20260423T235855
CREATED:20240416T225830Z
LAST-MODIFIED:20240416T225830Z
UID:14782-1719568200-1719572400@altonasportscentre.com.au
SUMMARY:Walking Basketball Term 2 2024
DESCRIPTION:  \nWalking Basketball is aimed at people who: \n\nmay have a disability\nare returning from injury\nare in community health groups looking for a gentle rehab\nbelong to over 50 groups looking for indoor activities and gentle exercise\nare any age and all abilities included\n\n  \nProgram Overview: \nThe sessions last for 60 minutes and are composed of a warmup\, skill based drills and game play. Sessions are designed to be adaptable based on participant skill level\, fitness and mobility. \n  \nCost: \n$2 per person\, per session. \n  \nPlease note sessions will not run on public holidays.
URL:https://altonasportscentre.com.au/event/walking-basketball-term-2-2024/2024-06-28/
LOCATION:Altona Sports Centre\, 1 Andrew Park Drive\, Altona Meadows\, Victoria\, 3028\, Australia
CATEGORIES:Basketball
ATTACH;FMTTYPE=image/png:https://altonasportscentre.com.au/wp-content/uploads/2024/04/Walking-Basketball-Term-2-2024-Website.png
ORGANIZER;CN="Altona%20Sports%20Centre":MAILTO:bookings@altonasportscentre.com.au
END:VEVENT
BEGIN:VEVENT
DTSTART;TZID=Australia/Melbourne:20240621T095000
DTEND;TZID=Australia/Melbourne:20240621T110000
DTSTAMP:20260423T235855
CREATED:20240416T225828Z
LAST-MODIFIED:20240416T225828Z
UID:14781-1718963400-1718967600@altonasportscentre.com.au
SUMMARY:Walking Basketball Term 2 2024
DESCRIPTION:  \nWalking Basketball is aimed at people who: \n\nmay have a disability\nare returning from injury\nare in community health groups looking for a gentle rehab\nbelong to over 50 groups looking for indoor activities and gentle exercise\nare any age and all abilities included\n\n  \nProgram Overview: \nThe sessions last for 60 minutes and are composed of a warmup\, skill based drills and game play. Sessions are designed to be adaptable based on participant skill level\, fitness and mobility. \n  \nCost: \n$2 per person\, per session. \n  \nPlease note sessions will not run on public holidays.
URL:https://altonasportscentre.com.au/event/walking-basketball-term-2-2024/2024-06-21/
LOCATION:Altona Sports Centre\, 1 Andrew Park Drive\, Altona Meadows\, Victoria\, 3028\, Australia
CATEGORIES:Basketball
ATTACH;FMTTYPE=image/png:https://altonasportscentre.com.au/wp-content/uploads/2024/04/Walking-Basketball-Term-2-2024-Website.png
ORGANIZER;CN="Altona%20Sports%20Centre":MAILTO:bookings@altonasportscentre.com.au
END:VEVENT
BEGIN:VEVENT
DTSTART;TZID=Australia/Melbourne:20240614T095000
DTEND;TZID=Australia/Melbourne:20240614T110000
DTSTAMP:20260423T235855
CREATED:20240416T225827Z
LAST-MODIFIED:20240416T225827Z
UID:14780-1718358600-1718362800@altonasportscentre.com.au
SUMMARY:Walking Basketball Term 2 2024
DESCRIPTION:  \nWalking Basketball is aimed at people who: \n\nmay have a disability\nare returning from injury\nare in community health groups looking for a gentle rehab\nbelong to over 50 groups looking for indoor activities and gentle exercise\nare any age and all abilities included\n\n  \nProgram Overview: \nThe sessions last for 60 minutes and are composed of a warmup\, skill based drills and game play. Sessions are designed to be adaptable based on participant skill level\, fitness and mobility. \n  \nCost: \n$2 per person\, per session. \n  \nPlease note sessions will not run on public holidays.
URL:https://altonasportscentre.com.au/event/walking-basketball-term-2-2024/2024-06-14/
LOCATION:Altona Sports Centre\, 1 Andrew Park Drive\, Altona Meadows\, Victoria\, 3028\, Australia
CATEGORIES:Basketball
ATTACH;FMTTYPE=image/png:https://altonasportscentre.com.au/wp-content/uploads/2024/04/Walking-Basketball-Term-2-2024-Website.png
ORGANIZER;CN="Altona%20Sports%20Centre":MAILTO:bookings@altonasportscentre.com.au
END:VEVENT
BEGIN:VEVENT
DTSTART;TZID=Australia/Melbourne:20240607T095000
DTEND;TZID=Australia/Melbourne:20240607T110000
DTSTAMP:20260423T235855
CREATED:20240416T225825Z
LAST-MODIFIED:20240416T225825Z
UID:14779-1717753800-1717758000@altonasportscentre.com.au
SUMMARY:Walking Basketball Term 2 2024
DESCRIPTION:  \nWalking Basketball is aimed at people who: \n\nmay have a disability\nare returning from injury\nare in community health groups looking for a gentle rehab\nbelong to over 50 groups looking for indoor activities and gentle exercise\nare any age and all abilities included\n\n  \nProgram Overview: \nThe sessions last for 60 minutes and are composed of a warmup\, skill based drills and game play. Sessions are designed to be adaptable based on participant skill level\, fitness and mobility. \n  \nCost: \n$2 per person\, per session. \n  \nPlease note sessions will not run on public holidays.
URL:https://altonasportscentre.com.au/event/walking-basketball-term-2-2024/2024-06-07/
LOCATION:Altona Sports Centre\, 1 Andrew Park Drive\, Altona Meadows\, Victoria\, 3028\, Australia
CATEGORIES:Basketball
ATTACH;FMTTYPE=image/png:https://altonasportscentre.com.au/wp-content/uploads/2024/04/Walking-Basketball-Term-2-2024-Website.png
ORGANIZER;CN="Altona%20Sports%20Centre":MAILTO:bookings@altonasportscentre.com.au
END:VEVENT
BEGIN:VEVENT
DTSTART;TZID=Australia/Melbourne:20240531T095000
DTEND;TZID=Australia/Melbourne:20240531T110000
DTSTAMP:20260423T235855
CREATED:20240416T225824Z
LAST-MODIFIED:20240416T225824Z
UID:14778-1717149000-1717153200@altonasportscentre.com.au
SUMMARY:Walking Basketball Term 2 2024
DESCRIPTION:  \nWalking Basketball is aimed at people who: \n\nmay have a disability\nare returning from injury\nare in community health groups looking for a gentle rehab\nbelong to over 50 groups looking for indoor activities and gentle exercise\nare any age and all abilities included\n\n  \nProgram Overview: \nThe sessions last for 60 minutes and are composed of a warmup\, skill based drills and game play. Sessions are designed to be adaptable based on participant skill level\, fitness and mobility. \n  \nCost: \n$2 per person\, per session. \n  \nPlease note sessions will not run on public holidays.
URL:https://altonasportscentre.com.au/event/walking-basketball-term-2-2024/2024-05-31/
LOCATION:Altona Sports Centre\, 1 Andrew Park Drive\, Altona Meadows\, Victoria\, 3028\, Australia
CATEGORIES:Basketball
ATTACH;FMTTYPE=image/png:https://altonasportscentre.com.au/wp-content/uploads/2024/04/Walking-Basketball-Term-2-2024-Website.png
ORGANIZER;CN="Altona%20Sports%20Centre":MAILTO:bookings@altonasportscentre.com.au
END:VEVENT
BEGIN:VEVENT
DTSTART;TZID=Australia/Melbourne:20240524T095000
DTEND;TZID=Australia/Melbourne:20240524T110000
DTSTAMP:20260423T235855
CREATED:20240416T225822Z
LAST-MODIFIED:20240416T225822Z
UID:14777-1716544200-1716548400@altonasportscentre.com.au
SUMMARY:Walking Basketball Term 2 2024
DESCRIPTION:  \nWalking Basketball is aimed at people who: \n\nmay have a disability\nare returning from injury\nare in community health groups looking for a gentle rehab\nbelong to over 50 groups looking for indoor activities and gentle exercise\nare any age and all abilities included\n\n  \nProgram Overview: \nThe sessions last for 60 minutes and are composed of a warmup\, skill based drills and game play. Sessions are designed to be adaptable based on participant skill level\, fitness and mobility. \n  \nCost: \n$2 per person\, per session. \n  \nPlease note sessions will not run on public holidays.
URL:https://altonasportscentre.com.au/event/walking-basketball-term-2-2024/2024-05-24/
LOCATION:Altona Sports Centre\, 1 Andrew Park Drive\, Altona Meadows\, Victoria\, 3028\, Australia
CATEGORIES:Basketball
ATTACH;FMTTYPE=image/png:https://altonasportscentre.com.au/wp-content/uploads/2024/04/Walking-Basketball-Term-2-2024-Website.png
ORGANIZER;CN="Altona%20Sports%20Centre":MAILTO:bookings@altonasportscentre.com.au
END:VEVENT
BEGIN:VEVENT
DTSTART;TZID=Australia/Melbourne:20240517T095000
DTEND;TZID=Australia/Melbourne:20240517T110000
DTSTAMP:20260423T235855
CREATED:20240416T225821Z
LAST-MODIFIED:20240416T225821Z
UID:14776-1715939400-1715943600@altonasportscentre.com.au
SUMMARY:Walking Basketball Term 2 2024
DESCRIPTION:  \nWalking Basketball is aimed at people who: \n\nmay have a disability\nare returning from injury\nare in community health groups looking for a gentle rehab\nbelong to over 50 groups looking for indoor activities and gentle exercise\nare any age and all abilities included\n\n  \nProgram Overview: \nThe sessions last for 60 minutes and are composed of a warmup\, skill based drills and game play. Sessions are designed to be adaptable based on participant skill level\, fitness and mobility. \n  \nCost: \n$2 per person\, per session. \n  \nPlease note sessions will not run on public holidays.
URL:https://altonasportscentre.com.au/event/walking-basketball-term-2-2024/2024-05-17/
LOCATION:Altona Sports Centre\, 1 Andrew Park Drive\, Altona Meadows\, Victoria\, 3028\, Australia
CATEGORIES:Basketball
ATTACH;FMTTYPE=image/png:https://altonasportscentre.com.au/wp-content/uploads/2024/04/Walking-Basketball-Term-2-2024-Website.png
ORGANIZER;CN="Altona%20Sports%20Centre":MAILTO:bookings@altonasportscentre.com.au
END:VEVENT
BEGIN:VEVENT
DTSTART;TZID=Australia/Melbourne:20240510T095000
DTEND;TZID=Australia/Melbourne:20240510T110000
DTSTAMP:20260423T235855
CREATED:20240416T225819Z
LAST-MODIFIED:20240416T225819Z
UID:14775-1715334600-1715338800@altonasportscentre.com.au
SUMMARY:Walking Basketball Term 2 2024
DESCRIPTION:  \nWalking Basketball is aimed at people who: \n\nmay have a disability\nare returning from injury\nare in community health groups looking for a gentle rehab\nbelong to over 50 groups looking for indoor activities and gentle exercise\nare any age and all abilities included\n\n  \nProgram Overview: \nThe sessions last for 60 minutes and are composed of a warmup\, skill based drills and game play. Sessions are designed to be adaptable based on participant skill level\, fitness and mobility. \n  \nCost: \n$2 per person\, per session. \n  \nPlease note sessions will not run on public holidays.
URL:https://altonasportscentre.com.au/event/walking-basketball-term-2-2024/2024-05-10/
LOCATION:Altona Sports Centre\, 1 Andrew Park Drive\, Altona Meadows\, Victoria\, 3028\, Australia
CATEGORIES:Basketball
ATTACH;FMTTYPE=image/png:https://altonasportscentre.com.au/wp-content/uploads/2024/04/Walking-Basketball-Term-2-2024-Website.png
ORGANIZER;CN="Altona%20Sports%20Centre":MAILTO:bookings@altonasportscentre.com.au
END:VEVENT
BEGIN:VEVENT
DTSTART;TZID=Australia/Melbourne:20240503T095000
DTEND;TZID=Australia/Melbourne:20240503T110000
DTSTAMP:20260423T235855
CREATED:20240416T225818Z
LAST-MODIFIED:20240416T225818Z
UID:14774-1714729800-1714734000@altonasportscentre.com.au
SUMMARY:Walking Basketball Term 2 2024
DESCRIPTION:  \nWalking Basketball is aimed at people who: \n\nmay have a disability\nare returning from injury\nare in community health groups looking for a gentle rehab\nbelong to over 50 groups looking for indoor activities and gentle exercise\nare any age and all abilities included\n\n  \nProgram Overview: \nThe sessions last for 60 minutes and are composed of a warmup\, skill based drills and game play. Sessions are designed to be adaptable based on participant skill level\, fitness and mobility. \n  \nCost: \n$2 per person\, per session. \n  \nPlease note sessions will not run on public holidays.
URL:https://altonasportscentre.com.au/event/walking-basketball-term-2-2024/2024-05-03/
LOCATION:Altona Sports Centre\, 1 Andrew Park Drive\, Altona Meadows\, Victoria\, 3028\, Australia
CATEGORIES:Basketball
ATTACH;FMTTYPE=image/png:https://altonasportscentre.com.au/wp-content/uploads/2024/04/Walking-Basketball-Term-2-2024-Website.png
ORGANIZER;CN="Altona%20Sports%20Centre":MAILTO:bookings@altonasportscentre.com.au
END:VEVENT
BEGIN:VEVENT
DTSTART;TZID=Australia/Melbourne:20240426T095000
DTEND;TZID=Australia/Melbourne:20240426T110000
DTSTAMP:20260423T235855
CREATED:20240416T225817Z
LAST-MODIFIED:20240416T225817Z
UID:14773-1714125000-1714129200@altonasportscentre.com.au
SUMMARY:Walking Basketball Term 2 2024
DESCRIPTION:  \nWalking Basketball is aimed at people who: \n\nmay have a disability\nare returning from injury\nare in community health groups looking for a gentle rehab\nbelong to over 50 groups looking for indoor activities and gentle exercise\nare any age and all abilities included\n\n  \nProgram Overview: \nThe sessions last for 60 minutes and are composed of a warmup\, skill based drills and game play. Sessions are designed to be adaptable based on participant skill level\, fitness and mobility. \n  \nCost: \n$2 per person\, per session. \n  \nPlease note sessions will not run on public holidays.
URL:https://altonasportscentre.com.au/event/walking-basketball-term-2-2024/2024-04-26/
LOCATION:Altona Sports Centre\, 1 Andrew Park Drive\, Altona Meadows\, Victoria\, 3028\, Australia
CATEGORIES:Basketball
ATTACH;FMTTYPE=image/png:https://altonasportscentre.com.au/wp-content/uploads/2024/04/Walking-Basketball-Term-2-2024-Website.png
ORGANIZER;CN="Altona%20Sports%20Centre":MAILTO:bookings@altonasportscentre.com.au
END:VEVENT
BEGIN:VEVENT
DTSTART;TZID=Australia/Melbourne:20240419T095000
DTEND;TZID=Australia/Melbourne:20240419T110000
DTSTAMP:20260423T235855
CREATED:20240416T225816Z
LAST-MODIFIED:20240416T225816Z
UID:14770-1713520200-1713524400@altonasportscentre.com.au
SUMMARY:Walking Basketball Term 2 2024
DESCRIPTION:  \nWalking Basketball is aimed at people who: \n\nmay have a disability\nare returning from injury\nare in community health groups looking for a gentle rehab\nbelong to over 50 groups looking for indoor activities and gentle exercise\nare any age and all abilities included\n\n  \nProgram Overview: \nThe sessions last for 60 minutes and are composed of a warmup\, skill based drills and game play. Sessions are designed to be adaptable based on participant skill level\, fitness and mobility. \n  \nCost: \n$2 per person\, per session. \n  \nPlease note sessions will not run on public holidays.
URL:https://altonasportscentre.com.au/event/walking-basketball-term-2-2024/2024-04-19/
LOCATION:Altona Sports Centre\, 1 Andrew Park Drive\, Altona Meadows\, Victoria\, 3028\, Australia
CATEGORIES:Basketball
ATTACH;FMTTYPE=image/png:https://altonasportscentre.com.au/wp-content/uploads/2024/04/Walking-Basketball-Term-2-2024-Website.png
ORGANIZER;CN="Altona%20Sports%20Centre":MAILTO:bookings@altonasportscentre.com.au
END:VEVENT
END:VCALENDAR