BEGIN:VCALENDAR
VERSION:2.0
PRODID:-//Altona Sports Centre - ECPv6.1.4//NONSGML v1.0//EN
CALSCALE:GREGORIAN
METHOD:PUBLISH
X-ORIGINAL-URL:https://altonasportscentre.com.au
X-WR-CALDESC:Events for Altona Sports Centre
REFRESH-INTERVAL;VALUE=DURATION:PT1H
X-Robots-Tag:noindex
X-PUBLISHED-TTL:PT1H
BEGIN:VTIMEZONE
TZID:Australia/Melbourne
BEGIN:STANDARD
TZOFFSETFROM:+1100
TZOFFSETTO:+1000
TZNAME:AEST
DTSTART:20240406T160000
END:STANDARD
BEGIN:DAYLIGHT
TZOFFSETFROM:+1000
TZOFFSETTO:+1100
TZNAME:AEDT
DTSTART:20241005T160000
END:DAYLIGHT
END:VTIMEZONE
BEGIN:VEVENT
DTSTART;TZID=Australia/Melbourne:20240628T161500
DTEND;TZID=Australia/Melbourne:20240628T170000
DTSTAMP:20260424T012947
CREATED:20240319T002431Z
LAST-MODIFIED:20240426T035021Z
UID:14449-1719591300-1719594000@altonasportscentre.com.au
SUMMARY:Mini Gators Basketball Program Term 2 2024
DESCRIPTION:  \nMini Gators Basketball Program is back for Term 2 2024! \nJoin in the fun at Altona Sports Centre and learn the fundamentals of the game from experienced coaches of our Gators Junior & Youth League REP Program. \nMini Gators is a 10 session program spanning across Term 2\, serving as an introduction for new basketballers from the age of 5 years old and extra training for players with some experience. Participants can enjoy themselves in a fun and friendly environment while learning basketball skills and making new friends! \n  \nProgram Details \n\nAges: 5 – 12 year olds\nWhen: 4:15pm – 5:00pm\, Friday afternoons\nDuration: 10 weekly sessions of 45 mins\nCost: $100 per participant\nIncludes: Training & Coaching. Please BYO Basketball and drink bottle.\nDates: Friday 26th April 2024 – Friday 28th June 2024\n\n  \nRegistrations must be made before Monday 22nd April 2024. \n  \nPlease note sessions will run on the following dates: 26th April\, 3rd May\, 10th May\, 17th May\, 24th May\, 31st May\, 7th June\, 14th June\, 21st June\, 28th June.
URL:https://altonasportscentre.com.au/event/mini-gators-basketball-program-term-2-2024-2/2024-06-28/
LOCATION:Altona Sports Centre\, 1 Andrew Park Drive\, Altona Meadows\, Victoria\, 3028\, Australia
CATEGORIES:Basketball
ATTACH;FMTTYPE=image/png:https://altonasportscentre.com.au/wp-content/uploads/2024/03/Mini-Gators-Term-2-2024-Website.png
ORGANIZER;CN="Altona%20Sports%20Centre":MAILTO:bookings@altonasportscentre.com.au
END:VEVENT
BEGIN:VEVENT
DTSTART;TZID=Australia/Melbourne:20240621T161500
DTEND;TZID=Australia/Melbourne:20240621T170000
DTSTAMP:20260424T012947
CREATED:20240319T002431Z
LAST-MODIFIED:20240426T035019Z
UID:14448-1718986500-1718989200@altonasportscentre.com.au
SUMMARY:Mini Gators Basketball Program Term 2 2024
DESCRIPTION:  \nMini Gators Basketball Program is back for Term 2 2024! \nJoin in the fun at Altona Sports Centre and learn the fundamentals of the game from experienced coaches of our Gators Junior & Youth League REP Program. \nMini Gators is a 10 session program spanning across Term 2\, serving as an introduction for new basketballers from the age of 5 years old and extra training for players with some experience. Participants can enjoy themselves in a fun and friendly environment while learning basketball skills and making new friends! \n  \nProgram Details \n\nAges: 5 – 12 year olds\nWhen: 4:15pm – 5:00pm\, Friday afternoons\nDuration: 10 weekly sessions of 45 mins\nCost: $100 per participant\nIncludes: Training & Coaching. Please BYO Basketball and drink bottle.\nDates: Friday 26th April 2024 – Friday 28th June 2024\n\n  \nRegistrations must be made before Monday 22nd April 2024. \n  \nPlease note sessions will run on the following dates: 26th April\, 3rd May\, 10th May\, 17th May\, 24th May\, 31st May\, 7th June\, 14th June\, 21st June\, 28th June.
URL:https://altonasportscentre.com.au/event/mini-gators-basketball-program-term-2-2024-2/2024-06-21/
LOCATION:Altona Sports Centre\, 1 Andrew Park Drive\, Altona Meadows\, Victoria\, 3028\, Australia
CATEGORIES:Basketball
ATTACH;FMTTYPE=image/png:https://altonasportscentre.com.au/wp-content/uploads/2024/03/Mini-Gators-Term-2-2024-Website.png
ORGANIZER;CN="Altona%20Sports%20Centre":MAILTO:bookings@altonasportscentre.com.au
END:VEVENT
BEGIN:VEVENT
DTSTART;TZID=Australia/Melbourne:20240614T161500
DTEND;TZID=Australia/Melbourne:20240614T170000
DTSTAMP:20260424T012947
CREATED:20240319T002431Z
LAST-MODIFIED:20240426T035017Z
UID:14447-1718381700-1718384400@altonasportscentre.com.au
SUMMARY:Mini Gators Basketball Program Term 2 2024
DESCRIPTION:  \nMini Gators Basketball Program is back for Term 2 2024! \nJoin in the fun at Altona Sports Centre and learn the fundamentals of the game from experienced coaches of our Gators Junior & Youth League REP Program. \nMini Gators is a 10 session program spanning across Term 2\, serving as an introduction for new basketballers from the age of 5 years old and extra training for players with some experience. Participants can enjoy themselves in a fun and friendly environment while learning basketball skills and making new friends! \n  \nProgram Details \n\nAges: 5 – 12 year olds\nWhen: 4:15pm – 5:00pm\, Friday afternoons\nDuration: 10 weekly sessions of 45 mins\nCost: $100 per participant\nIncludes: Training & Coaching. Please BYO Basketball and drink bottle.\nDates: Friday 26th April 2024 – Friday 28th June 2024\n\n  \nRegistrations must be made before Monday 22nd April 2024. \n  \nPlease note sessions will run on the following dates: 26th April\, 3rd May\, 10th May\, 17th May\, 24th May\, 31st May\, 7th June\, 14th June\, 21st June\, 28th June.
URL:https://altonasportscentre.com.au/event/mini-gators-basketball-program-term-2-2024-2/2024-06-14/
LOCATION:Altona Sports Centre\, 1 Andrew Park Drive\, Altona Meadows\, Victoria\, 3028\, Australia
CATEGORIES:Basketball
ATTACH;FMTTYPE=image/png:https://altonasportscentre.com.au/wp-content/uploads/2024/03/Mini-Gators-Term-2-2024-Website.png
ORGANIZER;CN="Altona%20Sports%20Centre":MAILTO:bookings@altonasportscentre.com.au
END:VEVENT
BEGIN:VEVENT
DTSTART;TZID=Australia/Melbourne:20240607T161500
DTEND;TZID=Australia/Melbourne:20240607T170000
DTSTAMP:20260424T012947
CREATED:20240319T002431Z
LAST-MODIFIED:20240426T035015Z
UID:14446-1717776900-1717779600@altonasportscentre.com.au
SUMMARY:Mini Gators Basketball Program Term 2 2024
DESCRIPTION:  \nMini Gators Basketball Program is back for Term 2 2024! \nJoin in the fun at Altona Sports Centre and learn the fundamentals of the game from experienced coaches of our Gators Junior & Youth League REP Program. \nMini Gators is a 10 session program spanning across Term 2\, serving as an introduction for new basketballers from the age of 5 years old and extra training for players with some experience. Participants can enjoy themselves in a fun and friendly environment while learning basketball skills and making new friends! \n  \nProgram Details \n\nAges: 5 – 12 year olds\nWhen: 4:15pm – 5:00pm\, Friday afternoons\nDuration: 10 weekly sessions of 45 mins\nCost: $100 per participant\nIncludes: Training & Coaching. Please BYO Basketball and drink bottle.\nDates: Friday 26th April 2024 – Friday 28th June 2024\n\n  \nRegistrations must be made before Monday 22nd April 2024. \n  \nPlease note sessions will run on the following dates: 26th April\, 3rd May\, 10th May\, 17th May\, 24th May\, 31st May\, 7th June\, 14th June\, 21st June\, 28th June.
URL:https://altonasportscentre.com.au/event/mini-gators-basketball-program-term-2-2024-2/2024-06-07/
LOCATION:Altona Sports Centre\, 1 Andrew Park Drive\, Altona Meadows\, Victoria\, 3028\, Australia
CATEGORIES:Basketball
ATTACH;FMTTYPE=image/png:https://altonasportscentre.com.au/wp-content/uploads/2024/03/Mini-Gators-Term-2-2024-Website.png
ORGANIZER;CN="Altona%20Sports%20Centre":MAILTO:bookings@altonasportscentre.com.au
END:VEVENT
BEGIN:VEVENT
DTSTART;TZID=Australia/Melbourne:20240531T161500
DTEND;TZID=Australia/Melbourne:20240531T170000
DTSTAMP:20260424T012947
CREATED:20240319T002431Z
LAST-MODIFIED:20240426T035012Z
UID:14445-1717172100-1717174800@altonasportscentre.com.au
SUMMARY:Mini Gators Basketball Program Term 2 2024
DESCRIPTION:  \nMini Gators Basketball Program is back for Term 2 2024! \nJoin in the fun at Altona Sports Centre and learn the fundamentals of the game from experienced coaches of our Gators Junior & Youth League REP Program. \nMini Gators is a 10 session program spanning across Term 2\, serving as an introduction for new basketballers from the age of 5 years old and extra training for players with some experience. Participants can enjoy themselves in a fun and friendly environment while learning basketball skills and making new friends! \n  \nProgram Details \n\nAges: 5 – 12 year olds\nWhen: 4:15pm – 5:00pm\, Friday afternoons\nDuration: 10 weekly sessions of 45 mins\nCost: $100 per participant\nIncludes: Training & Coaching. Please BYO Basketball and drink bottle.\nDates: Friday 26th April 2024 – Friday 28th June 2024\n\n  \nRegistrations must be made before Monday 22nd April 2024. \n  \nPlease note sessions will run on the following dates: 26th April\, 3rd May\, 10th May\, 17th May\, 24th May\, 31st May\, 7th June\, 14th June\, 21st June\, 28th June.
URL:https://altonasportscentre.com.au/event/mini-gators-basketball-program-term-2-2024-2/2024-05-31/
LOCATION:Altona Sports Centre\, 1 Andrew Park Drive\, Altona Meadows\, Victoria\, 3028\, Australia
CATEGORIES:Basketball
ATTACH;FMTTYPE=image/png:https://altonasportscentre.com.au/wp-content/uploads/2024/03/Mini-Gators-Term-2-2024-Website.png
ORGANIZER;CN="Altona%20Sports%20Centre":MAILTO:bookings@altonasportscentre.com.au
END:VEVENT
BEGIN:VEVENT
DTSTART;TZID=Australia/Melbourne:20240524T161500
DTEND;TZID=Australia/Melbourne:20240524T170000
DTSTAMP:20260424T012947
CREATED:20240319T002431Z
LAST-MODIFIED:20240426T035011Z
UID:14444-1716567300-1716570000@altonasportscentre.com.au
SUMMARY:Mini Gators Basketball Program Term 2 2024
DESCRIPTION:  \nMini Gators Basketball Program is back for Term 2 2024! \nJoin in the fun at Altona Sports Centre and learn the fundamentals of the game from experienced coaches of our Gators Junior & Youth League REP Program. \nMini Gators is a 10 session program spanning across Term 2\, serving as an introduction for new basketballers from the age of 5 years old and extra training for players with some experience. Participants can enjoy themselves in a fun and friendly environment while learning basketball skills and making new friends! \n  \nProgram Details \n\nAges: 5 – 12 year olds\nWhen: 4:15pm – 5:00pm\, Friday afternoons\nDuration: 10 weekly sessions of 45 mins\nCost: $100 per participant\nIncludes: Training & Coaching. Please BYO Basketball and drink bottle.\nDates: Friday 26th April 2024 – Friday 28th June 2024\n\n  \nRegistrations must be made before Monday 22nd April 2024. \n  \nPlease note sessions will run on the following dates: 26th April\, 3rd May\, 10th May\, 17th May\, 24th May\, 31st May\, 7th June\, 14th June\, 21st June\, 28th June.
URL:https://altonasportscentre.com.au/event/mini-gators-basketball-program-term-2-2024-2/2024-05-24/
LOCATION:Altona Sports Centre\, 1 Andrew Park Drive\, Altona Meadows\, Victoria\, 3028\, Australia
CATEGORIES:Basketball
ATTACH;FMTTYPE=image/png:https://altonasportscentre.com.au/wp-content/uploads/2024/03/Mini-Gators-Term-2-2024-Website.png
ORGANIZER;CN="Altona%20Sports%20Centre":MAILTO:bookings@altonasportscentre.com.au
END:VEVENT
BEGIN:VEVENT
DTSTART;TZID=Australia/Melbourne:20240517T161500
DTEND;TZID=Australia/Melbourne:20240517T170000
DTSTAMP:20260424T012947
CREATED:20240319T002431Z
LAST-MODIFIED:20240426T035009Z
UID:14443-1715962500-1715965200@altonasportscentre.com.au
SUMMARY:Mini Gators Basketball Program Term 2 2024
DESCRIPTION:  \nMini Gators Basketball Program is back for Term 2 2024! \nJoin in the fun at Altona Sports Centre and learn the fundamentals of the game from experienced coaches of our Gators Junior & Youth League REP Program. \nMini Gators is a 10 session program spanning across Term 2\, serving as an introduction for new basketballers from the age of 5 years old and extra training for players with some experience. Participants can enjoy themselves in a fun and friendly environment while learning basketball skills and making new friends! \n  \nProgram Details \n\nAges: 5 – 12 year olds\nWhen: 4:15pm – 5:00pm\, Friday afternoons\nDuration: 10 weekly sessions of 45 mins\nCost: $100 per participant\nIncludes: Training & Coaching. Please BYO Basketball and drink bottle.\nDates: Friday 26th April 2024 – Friday 28th June 2024\n\n  \nRegistrations must be made before Monday 22nd April 2024. \n  \nPlease note sessions will run on the following dates: 26th April\, 3rd May\, 10th May\, 17th May\, 24th May\, 31st May\, 7th June\, 14th June\, 21st June\, 28th June.
URL:https://altonasportscentre.com.au/event/mini-gators-basketball-program-term-2-2024-2/2024-05-17/
LOCATION:Altona Sports Centre\, 1 Andrew Park Drive\, Altona Meadows\, Victoria\, 3028\, Australia
CATEGORIES:Basketball
ATTACH;FMTTYPE=image/png:https://altonasportscentre.com.au/wp-content/uploads/2024/03/Mini-Gators-Term-2-2024-Website.png
ORGANIZER;CN="Altona%20Sports%20Centre":MAILTO:bookings@altonasportscentre.com.au
END:VEVENT
BEGIN:VEVENT
DTSTART;TZID=Australia/Melbourne:20240510T161500
DTEND;TZID=Australia/Melbourne:20240510T170000
DTSTAMP:20260424T012947
CREATED:20240319T002431Z
LAST-MODIFIED:20240426T035007Z
UID:14442-1715357700-1715360400@altonasportscentre.com.au
SUMMARY:Mini Gators Basketball Program Term 2 2024
DESCRIPTION:  \nMini Gators Basketball Program is back for Term 2 2024! \nJoin in the fun at Altona Sports Centre and learn the fundamentals of the game from experienced coaches of our Gators Junior & Youth League REP Program. \nMini Gators is a 10 session program spanning across Term 2\, serving as an introduction for new basketballers from the age of 5 years old and extra training for players with some experience. Participants can enjoy themselves in a fun and friendly environment while learning basketball skills and making new friends! \n  \nProgram Details \n\nAges: 5 – 12 year olds\nWhen: 4:15pm – 5:00pm\, Friday afternoons\nDuration: 10 weekly sessions of 45 mins\nCost: $100 per participant\nIncludes: Training & Coaching. Please BYO Basketball and drink bottle.\nDates: Friday 26th April 2024 – Friday 28th June 2024\n\n  \nRegistrations must be made before Monday 22nd April 2024. \n  \nPlease note sessions will run on the following dates: 26th April\, 3rd May\, 10th May\, 17th May\, 24th May\, 31st May\, 7th June\, 14th June\, 21st June\, 28th June.
URL:https://altonasportscentre.com.au/event/mini-gators-basketball-program-term-2-2024-2/2024-05-10/
LOCATION:Altona Sports Centre\, 1 Andrew Park Drive\, Altona Meadows\, Victoria\, 3028\, Australia
CATEGORIES:Basketball
ATTACH;FMTTYPE=image/png:https://altonasportscentre.com.au/wp-content/uploads/2024/03/Mini-Gators-Term-2-2024-Website.png
ORGANIZER;CN="Altona%20Sports%20Centre":MAILTO:bookings@altonasportscentre.com.au
END:VEVENT
BEGIN:VEVENT
DTSTART;TZID=Australia/Melbourne:20240503T161500
DTEND;TZID=Australia/Melbourne:20240503T170000
DTSTAMP:20260424T012947
CREATED:20240319T002431Z
LAST-MODIFIED:20240426T035006Z
UID:14441-1714752900-1714755600@altonasportscentre.com.au
SUMMARY:Mini Gators Basketball Program Term 2 2024
DESCRIPTION:  \nMini Gators Basketball Program is back for Term 2 2024! \nJoin in the fun at Altona Sports Centre and learn the fundamentals of the game from experienced coaches of our Gators Junior & Youth League REP Program. \nMini Gators is a 10 session program spanning across Term 2\, serving as an introduction for new basketballers from the age of 5 years old and extra training for players with some experience. Participants can enjoy themselves in a fun and friendly environment while learning basketball skills and making new friends! \n  \nProgram Details \n\nAges: 5 – 12 year olds\nWhen: 4:15pm – 5:00pm\, Friday afternoons\nDuration: 10 weekly sessions of 45 mins\nCost: $100 per participant\nIncludes: Training & Coaching. Please BYO Basketball and drink bottle.\nDates: Friday 26th April 2024 – Friday 28th June 2024\n\n  \nRegistrations must be made before Monday 22nd April 2024. \n  \nPlease note sessions will run on the following dates: 26th April\, 3rd May\, 10th May\, 17th May\, 24th May\, 31st May\, 7th June\, 14th June\, 21st June\, 28th June.
URL:https://altonasportscentre.com.au/event/mini-gators-basketball-program-term-2-2024-2/2024-05-03/
LOCATION:Altona Sports Centre\, 1 Andrew Park Drive\, Altona Meadows\, Victoria\, 3028\, Australia
CATEGORIES:Basketball
ATTACH;FMTTYPE=image/png:https://altonasportscentre.com.au/wp-content/uploads/2024/03/Mini-Gators-Term-2-2024-Website.png
ORGANIZER;CN="Altona%20Sports%20Centre":MAILTO:bookings@altonasportscentre.com.au
END:VEVENT
BEGIN:VEVENT
DTSTART;TZID=Australia/Melbourne:20240426T161500
DTEND;TZID=Australia/Melbourne:20240426T170000
DTSTAMP:20260424T012947
CREATED:20240319T002431Z
LAST-MODIFIED:20240426T035004Z
UID:14437-1714148100-1714150800@altonasportscentre.com.au
SUMMARY:Mini Gators Basketball Program Term 2 2024
DESCRIPTION:  \nMini Gators Basketball Program is back for Term 2 2024! \nJoin in the fun at Altona Sports Centre and learn the fundamentals of the game from experienced coaches of our Gators Junior & Youth League REP Program. \nMini Gators is a 10 session program spanning across Term 2\, serving as an introduction for new basketballers from the age of 5 years old and extra training for players with some experience. Participants can enjoy themselves in a fun and friendly environment while learning basketball skills and making new friends! \n  \nProgram Details \n\nAges: 5 – 12 year olds\nWhen: 4:15pm – 5:00pm\, Friday afternoons\nDuration: 10 weekly sessions of 45 mins\nCost: $100 per participant\nIncludes: Training & Coaching. Please BYO Basketball and drink bottle.\nDates: Friday 26th April 2024 – Friday 28th June 2024\n\n  \nRegistrations must be made before Monday 22nd April 2024. \n  \nPlease note sessions will run on the following dates: 26th April\, 3rd May\, 10th May\, 17th May\, 24th May\, 31st May\, 7th June\, 14th June\, 21st June\, 28th June.
URL:https://altonasportscentre.com.au/event/mini-gators-basketball-program-term-2-2024-2/2024-04-26/
LOCATION:Altona Sports Centre\, 1 Andrew Park Drive\, Altona Meadows\, Victoria\, 3028\, Australia
CATEGORIES:Basketball
ATTACH;FMTTYPE=image/png:https://altonasportscentre.com.au/wp-content/uploads/2024/03/Mini-Gators-Term-2-2024-Website.png
ORGANIZER;CN="Altona%20Sports%20Centre":MAILTO:bookings@altonasportscentre.com.au
END:VEVENT
END:VCALENDAR